BEGIN:VCALENDAR
VERSION:2.0
PRODID:-//hacksw/handcal//NONSGML v1.0//EN
BEGIN:VEVENT
SUMMARY:Tournoi de simple et de mixte
UID:51294b0e-2bc5-4f2b-aca7-52d1f7eb2ae8
DTSTART:20260417T220000Z
DTEND:20260419T220000Z
LOCATION:Cosec Saint Exupery rue saint exupery 71000 Macon
CATEGORIES:Sportif
STATUS:
URL;VALUE=URI:https://bm71.sportsregions.fr/evenements/2026/04/18/tournoi-de-simple-et-de-mixte-2438093
END:VEVENT
END:VCALENDAR
