BEGIN:VCALENDAR
VERSION:2.0
PRODID:-//hacksw/handcal//NONSGML v1.0//EN
BEGIN:VEVENT
SUMMARY:Jeu libre
UID:4206eb9b-9e6f-406e-b458-e48208f61ebd
DTSTART:20260309T190000Z
DTEND:20260309T213000Z
LOCATION:Localisation   
CATEGORIES:Entrainement
STATUS:
URL;VALUE=URI:https://bm71.sportsregions.fr/evenements/2026/03/09/jeu-libre-2424941
END:VEVENT
END:VCALENDAR
