BEGIN:VCALENDAR
VERSION:2.0
PRODID:-//hacksw/handcal//NONSGML v1.0//EN
BEGIN:VEVENT
SUMMARY:Entrainement Jeunes - Performance (St Ex)
UID:3859c16e-bb74-462d-b32a-bce893105775
DTSTART:20260309T171500Z
DTEND:20260309T190000Z
LOCATION:Cosec Saint Exupery rue saint exupery 71000 Macon
CATEGORIES:Entrainement
STATUS:
URL;VALUE=URI:https://bm71.sportsregions.fr/evenements/2026/03/09/entrainement-jeunes-performance-st-ex-2424938
END:VEVENT
END:VCALENDAR
